BEGIN:VCALENDAR
VERSION:2.0
PRODID:-//Restarters Barcelona - ECPv6.15.20//NONSGML v1.0//EN
CALSCALE:GREGORIAN
METHOD:PUBLISH
X-WR-CALNAME:Restarters Barcelona
X-ORIGINAL-URL:https://restartersbcn.info
X-WR-CALDESC:Eventos para Restarters Barcelona
REFRESH-INTERVAL;VALUE=DURATION:PT1H
X-Robots-Tag:noindex
X-PUBLISHED-TTL:PT1H
BEGIN:VTIMEZONE
TZID:Europe/Madrid
BEGIN:DAYLIGHT
TZOFFSETFROM:+0100
TZOFFSETTO:+0200
TZNAME:CEST
DTSTART:20210328T010000
END:DAYLIGHT
BEGIN:STANDARD
TZOFFSETFROM:+0200
TZOFFSETTO:+0100
TZNAME:CET
DTSTART:20211031T010000
END:STANDARD
BEGIN:DAYLIGHT
TZOFFSETFROM:+0100
TZOFFSETTO:+0200
TZNAME:CEST
DTSTART:20220327T010000
END:DAYLIGHT
BEGIN:STANDARD
TZOFFSETFROM:+0200
TZOFFSETTO:+0100
TZNAME:CET
DTSTART:20221030T010000
END:STANDARD
BEGIN:DAYLIGHT
TZOFFSETFROM:+0100
TZOFFSETTO:+0200
TZNAME:CEST
DTSTART:20230326T010000
END:DAYLIGHT
BEGIN:STANDARD
TZOFFSETFROM:+0200
TZOFFSETTO:+0100
TZNAME:CET
DTSTART:20231029T010000
END:STANDARD
BEGIN:DAYLIGHT
TZOFFSETFROM:+0100
TZOFFSETTO:+0200
TZNAME:CEST
DTSTART:20240331T010000
END:DAYLIGHT
BEGIN:STANDARD
TZOFFSETFROM:+0200
TZOFFSETTO:+0100
TZNAME:CET
DTSTART:20241027T010000
END:STANDARD
END:VTIMEZONE
BEGIN:VEVENT
DTSTART;TZID=Europe/Madrid:20231119T103000
DTEND;TZID=Europe/Madrid:20231119T133000
DTSTAMP:20260423T210007
CREATED:20231020T144000Z
LAST-MODIFIED:20231020T144002Z
UID:1490-1700389800-1700400600@restartersbcn.info
SUMMARY:Celrà
DESCRIPTION:
URL:https://restartersbcn.info/event/celra/
LOCATION:Plaça de Catalunya de Celrà\, (o\, si plou\, Pavelló de les Piscines)\, Celrà\, 17460\, España
END:VEVENT
BEGIN:VEVENT
DTSTART;TZID=Europe/Madrid:20231118T110000
DTEND;TZID=Europe/Madrid:20231118T133000
DTSTAMP:20260423T210007
CREATED:20231110T111356Z
LAST-MODIFIED:20231110T111357Z
UID:1500-1700305200-1700314200@restartersbcn.info
SUMMARY:Caixa d'Eines i Feines
DESCRIPTION:
URL:https://restartersbcn.info/event/caixa-deines-i-feines-9/
LOCATION:Jardins del Pou de la Figuera\, Jaume Giralt 11\, Barcelona\, 08003\, Spain
END:VEVENT
BEGIN:VEVENT
DTSTART;TZID=Europe/Madrid:20231106T173000
DTEND;TZID=Europe/Madrid:20231106T203000
DTSTAMP:20260423T210007
CREATED:20231008T092249Z
LAST-MODIFIED:20231008T093349Z
UID:1480-1699291800-1699302600@restartersbcn.info
SUMMARY:TransfoLAB
DESCRIPTION:Aquesta activitat forma part del projecte «Revalora tus residuos – segunda edición» i és gratuïta. Al formulari que trobaràs al botó «Inscriu-t’hi! — ¡Inscríbete!» marca l’opció «Reparación de pequeños electrodomésticos con Restarters BCN 06.11.23 17.30-20.30 (12 plazas gratuitas)». \n\n\n\nEsta actividad forma parte del proyecto Revalora tus residuos – segunda edición y es gratuita. En el formulario que encontrarás en el botón «Inscriu-t’hi! — ¡Inscríbete!»\, marca la opción «Reparación de pequeños electrodomésticos con Restarters BCN 06.11.23 17.30-20.30 (12 plazas gratuitas)».
URL:https://restartersbcn.info/event/transfolab/
LOCATION:TransfoLAB BCN\, Ciutat de Granada\, 71 baixos\, Barcelona\, 08005\, España
END:VEVENT
BEGIN:VEVENT
DTSTART;TZID=Europe/Madrid:20231028T100000
DTEND;TZID=Europe/Madrid:20231028T130000
DTSTAMP:20260423T210007
CREATED:20231024T081939Z
LAST-MODIFIED:20231024T081940Z
UID:1494-1698487200-1698498000@restartersbcn.info
SUMMARY:Ca l'Isidret
DESCRIPTION:
URL:https://restartersbcn.info/event/ca-lisidret-8/
LOCATION:Ca l’Isidret\, carrer Josep Pla 174\, Barcelona\, Barcelona\, 08020\, España
END:VEVENT
BEGIN:VEVENT
DTSTART;TZID=Europe/Madrid:20231021T110000
DTEND;TZID=Europe/Madrid:20231021T133000
DTSTAMP:20260423T210007
CREATED:20231013T102320Z
LAST-MODIFIED:20231013T102321Z
UID:1487-1697886000-1697895000@restartersbcn.info
SUMMARY:Caixa d'Eines i Feines
DESCRIPTION:
URL:https://restartersbcn.info/event/caixa-deines-i-feines-8/
LOCATION:Jardins del Pou de la Figuera\, Jaume Giralt 11\, Barcelona\, 08003\, Spain
END:VEVENT
BEGIN:VEVENT
DTSTART;TZID=Europe/Madrid:20230930T100000
DTEND;TZID=Europe/Madrid:20230930T130000
DTSTAMP:20260423T210007
CREATED:20230919T090443Z
LAST-MODIFIED:20230919T090509Z
UID:1477-1696068000-1696078800@restartersbcn.info
SUMMARY:Ca l'Isidret
DESCRIPTION:
URL:https://restartersbcn.info/event/ca-lisidret-7/
LOCATION:Ca l’Isidret\, carrer Josep Pla 174\, Barcelona\, Barcelona\, 08020\, España
END:VEVENT
BEGIN:VEVENT
DTSTART;TZID=Europe/Madrid:20230916T110000
DTEND;TZID=Europe/Madrid:20230916T133000
DTSTAMP:20260423T210007
CREATED:20230905T135226Z
LAST-MODIFIED:20230905T135227Z
UID:1473-1694862000-1694871000@restartersbcn.info
SUMMARY:Caixa d'Eines i Feines
DESCRIPTION:
URL:https://restartersbcn.info/event/caixa-deines-i-feines-7/
LOCATION:Jardins del Pou de la Figuera\, Jaume Giralt 11\, Barcelona\, 08003\, Spain
END:VEVENT
BEGIN:VEVENT
DTSTART;TZID=Europe/Madrid:20230706T110000
DTEND;TZID=Europe/Madrid:20230706T133000
DTSTAMP:20260423T210007
CREATED:20230706T083811Z
LAST-MODIFIED:20230706T083812Z
UID:1464-1688641200-1688650200@restartersbcn.info
SUMMARY:Caixa d'Eines i Feines
DESCRIPTION:
URL:https://restartersbcn.info/event/caixa-deines-i-feines-6/
LOCATION:Jardins del Pou de la Figuera\, Jaume Giralt 11\, Barcelona\, 08003\, Spain
END:VEVENT
BEGIN:VEVENT
DTSTART;TZID=Europe/Madrid:20230701T100000
DTEND;TZID=Europe/Madrid:20230701T130000
DTSTAMP:20260423T210007
CREATED:20230621T115621Z
LAST-MODIFIED:20230621T115622Z
UID:1461-1688205600-1688216400@restartersbcn.info
SUMMARY:Ca l'Isidret
DESCRIPTION:
URL:https://restartersbcn.info/event/ca-lisidret-6/
LOCATION:Ca l’Isidret\, carrer Josep Pla 174\, Barcelona\, Barcelona\, 08020\, España
END:VEVENT
BEGIN:VEVENT
DTSTART;TZID=Europe/Madrid:20230617T110000
DTEND;TZID=Europe/Madrid:20230617T133000
DTSTAMP:20260423T210007
CREATED:20230612T101133Z
LAST-MODIFIED:20230612T101152Z
UID:1458-1686999600-1687008600@restartersbcn.info
SUMMARY:Caixa d'Eines i Feines
DESCRIPTION:
URL:https://restartersbcn.info/event/caixa-deines-i-feines-5/
LOCATION:Jardins del Pou de la Figuera\, Jaume Giralt 11\, Barcelona\, 08003\, Spain
END:VEVENT
BEGIN:VEVENT
DTSTART;TZID=Europe/Madrid:20230602T160000
DTEND;TZID=Europe/Madrid:20230602T190000
DTSTAMP:20260423T210007
CREATED:20230517T091321Z
LAST-MODIFIED:20230517T091322Z
UID:1449-1685721600-1685732400@restartersbcn.info
SUMMARY:Centre Cívic de Porqueres
DESCRIPTION:
URL:https://restartersbcn.info/event/centre-civic-de-porqueres/
LOCATION:Centre Cívic de Porqueres\, c/ Mercè Rodoreda 5\, Porqueres\, 17834\, España
END:VEVENT
BEGIN:VEVENT
DTSTART;TZID=Europe/Madrid:20230527T100000
DTEND;TZID=Europe/Madrid:20230527T130000
DTSTAMP:20260423T210007
CREATED:20230510T133801Z
LAST-MODIFIED:20230510T133802Z
UID:1446-1685181600-1685192400@restartersbcn.info
SUMMARY:Ca l'Isidret
DESCRIPTION:
URL:https://restartersbcn.info/event/ca-lisidret-5/
LOCATION:Ca l’Isidret\, carrer Josep Pla 174\, Barcelona\, Barcelona\, 08020\, España
END:VEVENT
BEGIN:VEVENT
DTSTART;TZID=Europe/Madrid:20230520T100000
DTEND;TZID=Europe/Madrid:20230520T130000
DTSTAMP:20260423T210007
CREATED:20230417T162932Z
LAST-MODIFIED:20230417T162933Z
UID:1434-1684576800-1684587600@restartersbcn.info
SUMMARY:Casal Cultural de Mollet del Vallès
DESCRIPTION:
URL:https://restartersbcn.info/event/casal-cultural-de-mollet-del-valles/
LOCATION:Casal Cultural de Mollet del Vallès\, Rambla de Balmes\, 2\, Mollet del Vallès\, 08100\, España
END:VEVENT
BEGIN:VEVENT
DTSTART;TZID=Europe/Madrid:20230513T110000
DTEND;TZID=Europe/Madrid:20230513T133000
DTSTAMP:20260423T210007
CREATED:20230508T110249Z
LAST-MODIFIED:20230508T110250Z
UID:1444-1683975600-1683984600@restartersbcn.info
SUMMARY:Caixa d'Eines i Feines
DESCRIPTION:
URL:https://restartersbcn.info/event/caixa-deines-i-feines-4/
LOCATION:Jardins del Pou de la Figuera\, Jaume Giralt 11\, Barcelona\, 08003\, Spain
END:VEVENT
BEGIN:VEVENT
DTSTART;TZID=Europe/Madrid:20230506T110000
DTEND;TZID=Europe/Madrid:20230506T133000
DTSTAMP:20260423T210007
CREATED:20230420T144054Z
LAST-MODIFIED:20230420T144055Z
UID:1438-1683370800-1683379800@restartersbcn.info
SUMMARY:Casal d'Entitats de Sant Salvador (Tarragona)
DESCRIPTION:
URL:https://restartersbcn.info/event/casal-dentitats-de-sant-salvador-tarragona/
LOCATION:Casal d’entitats de Sant Salvador (Tarragona)\, Avinguda de Sant Salvador 114\, Sant Salvador\, Tarragona\, 43430\, España
END:VEVENT
BEGIN:VEVENT
DTSTART;TZID=Europe/Madrid:20230429T110000
DTEND;TZID=Europe/Madrid:20230429T140000
DTSTAMP:20260423T210007
CREATED:20230417T075707Z
LAST-MODIFIED:20230417T075742Z
UID:1429-1682766000-1682776800@restartersbcn.info
SUMMARY:Energetix Poblesec
DESCRIPTION:
URL:https://restartersbcn.info/event/enegertix-poblesec/
LOCATION:Pati de la Biblioteca Francesc Boix\, Blai 34\, Barcelona\, 08004\, España
END:VEVENT
BEGIN:VEVENT
DTSTART;TZID=Europe/Madrid:20230429T100000
DTEND;TZID=Europe/Madrid:20230429T130000
DTSTAMP:20260423T210007
CREATED:20230417T075122Z
LAST-MODIFIED:20230417T075122Z
UID:1427-1682762400-1682773200@restartersbcn.info
SUMMARY:Ca l'Isidret
DESCRIPTION:
URL:https://restartersbcn.info/event/ca-lisidret-4/
LOCATION:Ca l’Isidret\, carrer Josep Pla 174\, Barcelona\, Barcelona\, 08020\, España
END:VEVENT
BEGIN:VEVENT
DTSTART;TZID=Europe/Madrid:20230422T110000
DTEND;TZID=Europe/Madrid:20230422T133000
DTSTAMP:20260423T210007
CREATED:20230417T074956Z
LAST-MODIFIED:20230417T074957Z
UID:1425-1682161200-1682170200@restartersbcn.info
SUMMARY:Caixa d'Eines i Feines
DESCRIPTION:
URL:https://restartersbcn.info/event/caixa-deines-i-feines-3/
LOCATION:Jardins del Pou de la Figuera\, Jaume Giralt 11\, Barcelona\, 08003\, Spain
END:VEVENT
BEGIN:VEVENT
DTSTART;TZID=Europe/Madrid:20230325T100000
DTEND;TZID=Europe/Madrid:20230325T130000
DTSTAMP:20260423T210007
CREATED:20230314T191041Z
LAST-MODIFIED:20230314T191042Z
UID:1417-1679738400-1679749200@restartersbcn.info
SUMMARY:Ca l'Isidret
DESCRIPTION:
URL:https://restartersbcn.info/event/ca-lisidret-3/
LOCATION:Ca l’Isidret\, carrer Josep Pla 174\, Barcelona\, Barcelona\, 08020\, España
END:VEVENT
BEGIN:VEVENT
DTSTART;TZID=Europe/Madrid:20230311T110000
DTEND;TZID=Europe/Madrid:20230311T133000
DTSTAMP:20260423T210007
CREATED:20230224T101701Z
LAST-MODIFIED:20230224T101702Z
UID:1414-1678532400-1678541400@restartersbcn.info
SUMMARY:Caixa d'Eines i Feines
DESCRIPTION:
URL:https://restartersbcn.info/event/caixa-deines-i-feines-2/
LOCATION:Jardins del Pou de la Figuera\, Jaume Giralt 11\, Barcelona\, 08003\, Spain
END:VEVENT
BEGIN:VEVENT
DTSTART;TZID=Europe/Madrid:20230311T103000
DTEND;TZID=Europe/Madrid:20230311T133000
DTSTAMP:20260423T210007
CREATED:20230126T094056Z
LAST-MODIFIED:20230126T094226Z
UID:1391-1678530600-1678541400@restartersbcn.info
SUMMARY:Fablab Casa del Mig
DESCRIPTION:
URL:https://restartersbcn.info/event/fablab-casa-del-mig/
LOCATION:Fablab Casa del Mig\, Muntadas\, 1-5 (Parc de l'Espanya Industrial)\, Barcelona\, 08014\, España
END:VEVENT
BEGIN:VEVENT
DTSTART;TZID=Europe/Madrid:20230304T110000
DTEND;TZID=Europe/Madrid:20230304T140000
DTSTAMP:20260423T210007
CREATED:20230222T085503Z
LAST-MODIFIED:20230222T085657Z
UID:1400-1677927600-1677938400@restartersbcn.info
SUMMARY:Mobile Social Congress
DESCRIPTION:
URL:https://restartersbcn.info/event/mobile-social-congress/
LOCATION:CC Convent de Sant Agustí\, Comerç 36\, Barcelona\, 08003\, España
ORGANIZER;CN="Setem":MAILTO:catalunya@setem.org
END:VEVENT
BEGIN:VEVENT
DTSTART;TZID=Europe/Madrid:20230225T100000
DTEND;TZID=Europe/Madrid:20230225T130000
DTSTAMP:20260423T210007
CREATED:20230216T090320Z
LAST-MODIFIED:20230216T090321Z
UID:1398-1677319200-1677330000@restartersbcn.info
SUMMARY:Ca l'Isidret
DESCRIPTION:
URL:https://restartersbcn.info/event/ca-lisidret-2/
LOCATION:Ca l’Isidret\, carrer Josep Pla 174\, Barcelona\, Barcelona\, 08020\, España
END:VEVENT
BEGIN:VEVENT
DTSTART;TZID=Europe/Madrid:20230211T110000
DTEND;TZID=Europe/Madrid:20230211T130000
DTSTAMP:20260423T210007
CREATED:20230201T092041Z
LAST-MODIFIED:20230201T092042Z
UID:1395-1676113200-1676120400@restartersbcn.info
SUMMARY:Caixa d'Eines i Feines
DESCRIPTION:
URL:https://restartersbcn.info/event/caixa-deines-i-feines/
LOCATION:Jardins del Pou de la Figuera\, Jaume Giralt 11\, Barcelona\, 08003\, Spain
END:VEVENT
BEGIN:VEVENT
DTSTART;TZID=Europe/Madrid:20230128T100000
DTEND;TZID=Europe/Madrid:20230128T130000
DTSTAMP:20260423T210007
CREATED:20230117T231708Z
LAST-MODIFIED:20230117T231709Z
UID:1388-1674900000-1674910800@restartersbcn.info
SUMMARY:Ca l'Isidret
DESCRIPTION:
URL:https://restartersbcn.info/event/ca-lisidret/
LOCATION:Ca l’Isidret\, carrer Josep Pla 174\, Barcelona\, Barcelona\, 08020\, España
END:VEVENT
BEGIN:VEVENT
DTSTART;TZID=Europe/Madrid:20230114T110000
DTEND;TZID=Europe/Madrid:20230114T133000
DTSTAMP:20260423T210007
CREATED:20230105T101534Z
LAST-MODIFIED:20230105T101535Z
UID:1385-1673694000-1673703000@restartersbcn.info
SUMMARY:Restart Party - Caixa d'Eines i Feines
DESCRIPTION:
URL:https://restartersbcn.info/event/restart-party-caixa-deines-i-feines/
LOCATION:Jardins del Pou de la Figuera\, Jaume Giralt 11\, Barcelona\, 08003\, Spain
END:VEVENT
BEGIN:VEVENT
DTSTART;TZID=Europe/Madrid:20221217T110000
DTEND;TZID=Europe/Madrid:20221217T133000
DTSTAMP:20260423T210007
CREATED:20221212T093543Z
LAST-MODIFIED:20221212T093601Z
UID:1380-1671274800-1671283800@restartersbcn.info
SUMMARY:Restart Party - Caixa d'Eines i Feines
DESCRIPTION:
URL:https://restartersbcn.info/event/restart-party-a-la-caixa-deines-i-feines-3/
LOCATION:Jardins del Pou de la Figuera\, Jaume Giralt 11\, Barcelona\, 08003\, Spain
END:VEVENT
BEGIN:VEVENT
DTSTART;TZID=Europe/Madrid:20221217T100000
DTEND;TZID=Europe/Madrid:20221217T130000
DTSTAMP:20260423T210007
CREATED:20221130T172648Z
LAST-MODIFIED:20221130T172650Z
UID:1375-1671271200-1671282000@restartersbcn.info
SUMMARY:Restart Party - Ca l'Isidret
DESCRIPTION:
URL:https://restartersbcn.info/event/restart-party-ca-lisidret-2/
LOCATION:Ca l’Isidret\, carrer Josep Pla 174\, Barcelona\, Barcelona\, 08020\, España
END:VEVENT
BEGIN:VEVENT
DTSTART;TZID=Europe/Madrid:20221119T110000
DTEND;TZID=Europe/Madrid:20221119T133000
DTSTAMP:20260423T210007
CREATED:20221112T113548Z
LAST-MODIFIED:20221112T113549Z
UID:1369-1668855600-1668864600@restartersbcn.info
SUMMARY:Restart Party 9è aniversari La Negreta del Gòtic
DESCRIPTION:
URL:https://restartersbcn.info/event/restart-party-9e-aniversari-la-negreta-del-gotic/
LOCATION:La Negreta del Gòtic\, Nou de Sant Francesc\, 21\, Barcelona\, Barcelona\, 08002\, España
END:VEVENT
BEGIN:VEVENT
DTSTART;TZID=Europe/Madrid:20221015T100000
DTEND;TZID=Europe/Madrid:20221015T133000
DTSTAMP:20260423T210007
CREATED:20221004T095349Z
LAST-MODIFIED:20221004T095350Z
UID:1366-1665828000-1665840600@restartersbcn.info
SUMMARY:Restart Party - Ca l'Isidret
DESCRIPTION:
URL:https://restartersbcn.info/event/restart-party-ca-lisidret/
LOCATION:Ca l’Isidret\, carrer Josep Pla 174\, Barcelona\, Barcelona\, 08020\, España
END:VEVENT
END:VCALENDAR