BEGIN:VCALENDAR
VERSION:2.0
PRODID:-//Restarters Barcelona - ECPv6.15.20//NONSGML v1.0//EN
CALSCALE:GREGORIAN
METHOD:PUBLISH
X-WR-CALNAME:Restarters Barcelona
X-ORIGINAL-URL:https://restartersbcn.info
X-WR-CALDESC:Eventos para Restarters Barcelona
REFRESH-INTERVAL;VALUE=DURATION:PT1H
X-Robots-Tag:noindex
X-PUBLISHED-TTL:PT1H
BEGIN:VTIMEZONE
TZID:Europe/Madrid
BEGIN:DAYLIGHT
TZOFFSETFROM:+0100
TZOFFSETTO:+0200
TZNAME:CEST
DTSTART:20200329T010000
END:DAYLIGHT
BEGIN:STANDARD
TZOFFSETFROM:+0200
TZOFFSETTO:+0100
TZNAME:CET
DTSTART:20201025T010000
END:STANDARD
BEGIN:DAYLIGHT
TZOFFSETFROM:+0100
TZOFFSETTO:+0200
TZNAME:CEST
DTSTART:20210328T010000
END:DAYLIGHT
BEGIN:STANDARD
TZOFFSETFROM:+0200
TZOFFSETTO:+0100
TZNAME:CET
DTSTART:20211031T010000
END:STANDARD
BEGIN:DAYLIGHT
TZOFFSETFROM:+0100
TZOFFSETTO:+0200
TZNAME:CEST
DTSTART:20220327T010000
END:DAYLIGHT
BEGIN:STANDARD
TZOFFSETFROM:+0200
TZOFFSETTO:+0100
TZNAME:CET
DTSTART:20221030T010000
END:STANDARD
BEGIN:DAYLIGHT
TZOFFSETFROM:+0100
TZOFFSETTO:+0200
TZNAME:CEST
DTSTART:20230326T010000
END:DAYLIGHT
BEGIN:STANDARD
TZOFFSETFROM:+0200
TZOFFSETTO:+0100
TZNAME:CET
DTSTART:20231029T010000
END:STANDARD
END:VTIMEZONE
BEGIN:VEVENT
DTSTART;TZID=Europe/Madrid:20220430T100000
DTEND;TZID=Europe/Madrid:20220430T130000
DTSTAMP:20260424T083058
CREATED:20220408T083703Z
LAST-MODIFIED:20220408T083704Z
UID:1175-1651312800-1651323600@restartersbcn.info
SUMMARY:Restart Party a Ca l'Isidret
DESCRIPTION:
URL:https://restartersbcn.info/event/restart-party-a-ca-lisidret-4/
LOCATION:Ca l’Isidret\, carrer Josep Pla 174\, Barcelona\, Barcelona\, 08020\, España
END:VEVENT
BEGIN:VEVENT
DTSTART;TZID=Europe/Madrid:20220326T100000
DTEND;TZID=Europe/Madrid:20220326T130000
DTSTAMP:20260424T083058
CREATED:20220308T120514Z
LAST-MODIFIED:20220308T120515Z
UID:1154-1648288800-1648299600@restartersbcn.info
SUMMARY:Restart Party a Ca l'Isidret
DESCRIPTION:
URL:https://restartersbcn.info/event/restart-party-a-ca-lisidret-3/
LOCATION:Ca l’Isidret\, carrer Josep Pla 174\, Barcelona\, Barcelona\, 08020\, España
END:VEVENT
BEGIN:VEVENT
DTSTART;TZID=Europe/Madrid:20220227T103000
DTEND;TZID=Europe/Madrid:20220227T130000
DTSTAMP:20260424T083058
CREATED:20220218T143036Z
LAST-MODIFIED:20220218T143037Z
UID:1114-1645957800-1645966800@restartersbcn.info
SUMMARY:Restart Party al Mobile Social Congress
DESCRIPTION:
URL:https://restartersbcn.info/event/restart-party-al-mobile-social-congress/
LOCATION:Jardins del Pou de la Figuera\, Jaume Giralt 11\, Barcelona\, 08003\, Spain
END:VEVENT
BEGIN:VEVENT
DTSTART;TZID=Europe/Madrid:20220226T100000
DTEND;TZID=Europe/Madrid:20220226T130000
DTSTAMP:20260424T083058
CREATED:20220210T081944Z
LAST-MODIFIED:20220210T081946Z
UID:1107-1645869600-1645880400@restartersbcn.info
SUMMARY:Restart Party a Ca l'Isidret
DESCRIPTION:
URL:https://restartersbcn.info/event/restart-party-a-ca-lisidret-2/
LOCATION:Ca l’Isidret\, carrer Josep Pla 174\, Barcelona\, Barcelona\, 08020\, España
END:VEVENT
BEGIN:VEVENT
DTSTART;TZID=Europe/Madrid:20211210T170000
DTEND;TZID=Europe/Madrid:20211210T203000
DTSTAMP:20260424T083058
CREATED:20211111T091406Z
LAST-MODIFIED:20211111T173339Z
UID:1001-1639155600-1639168200@restartersbcn.info
SUMMARY:Restart Party amb la Caixa d'Eines i Feines al Casal Pou
DESCRIPTION:
URL:https://restartersbcn.info/event/restart-party-amb-la-caixa-deines-i-feines-al-casal-pou/
LOCATION:Casal Pou\, Carders 33\, Barcelona\, 08003\, España
END:VEVENT
BEGIN:VEVENT
DTSTART;TZID=Europe/Madrid:20211127T100000
DTEND;TZID=Europe/Madrid:20211127T130000
DTSTAMP:20260424T083058
CREATED:20211111T173033Z
LAST-MODIFIED:20211111T173401Z
UID:1009-1638007200-1638018000@restartersbcn.info
SUMMARY:Restart Party a Ca l'Isidret
DESCRIPTION:
URL:https://restartersbcn.info/event/restart-party-a-ca-lisidret/
LOCATION:Ca l’Isidret\, carrer Josep Pla 174\, Barcelona\, Barcelona\, 08020\, España
END:VEVENT
BEGIN:VEVENT
DTSTART;TZID=Europe/Madrid:20211008T173000
DTEND;TZID=Europe/Madrid:20211008T203000
DTSTAMP:20260424T083058
CREATED:20210917T123356Z
LAST-MODIFIED:20210917T123943Z
UID:990-1633714200-1633725000@restartersbcn.info
SUMMARY:Restart Party a la Biblioteca de les Coses de l'Esquerra de l'Eixample 8-10-2021
DESCRIPTION:
URL:https://restartersbcn.info/event/restart-party-a-la-biblioteca-de-les-coses-de-lesquerra-de-leixample/
LOCATION:Biblioteca de les coses de l’esquerra de l’Eixample\, Rosselló 63\, Barcelona\, Barcelona\, 08029\, España
END:VEVENT
BEGIN:VEVENT
DTSTART;TZID=Europe/Madrid:20210914T173000
DTEND;TZID=Europe/Madrid:20210914T203000
DTSTAMP:20260424T083058
CREATED:20210830T165416Z
LAST-MODIFIED:20220919T140231Z
UID:976-1631640600-1631651400@restartersbcn.info
SUMMARY:TMDC 14-09-2021
DESCRIPTION:Inscripciones en el correo hola@tmdc.es.  \n\n\n\nIndicad qué aparato llevaréis\, por favor. ¡Gracias! 🙂
URL:https://restartersbcn.info/event/tmdc/
LOCATION:TMDC\, Rambla Prim 258\, Barcelona\, Barcelona\, 08020\, España
END:VEVENT
END:VCALENDAR